Package: cleanUpdTSeq Version: 1.45.1 Command: rm -rf cleanUpdTSeq.buildbin-libdir && mkdir cleanUpdTSeq.buildbin-libdir && E:\biocbuild\bbs-3.21-bioc\R\bin\R.exe CMD INSTALL --build --library=cleanUpdTSeq.buildbin-libdir cleanUpdTSeq_1.45.1.tar.gz StartedAt: 2025-02-10 07:27:49 -0500 (Mon, 10 Feb 2025) EndedAt: 2025-02-10 07:29:01 -0500 (Mon, 10 Feb 2025) EllapsedTime: 72.7 seconds RetCode: 0 Status: OK PackageFile: cleanUpdTSeq_1.45.1.zip PackageFileSize: 5.868 MiB