Package: cleanUpdTSeq Version: 1.45.1 Command: E:\biocbuild\bbs-3.21-bioc\R\bin\R.exe CMD INSTALL cleanUpdTSeq StartedAt: 2025-02-09 16:38:22 -0500 (Sun, 09 Feb 2025) EndedAt: 2025-02-09 16:39:45 -0500 (Sun, 09 Feb 2025) EllapsedTime: 83.6 seconds RetCode: 0 Status: OK