Package: cleaver Version: 1.45.0 Command: /Library/Frameworks/R.framework/Resources/bin/R CMD check --install=check:cleaver.install-out.txt --library=/Library/Frameworks/R.framework/Resources/library --no-vignettes --timings cleaver_1.45.0.tar.gz StartedAt: 2025-02-09 18:32:33 -0500 (Sun, 09 Feb 2025) EndedAt: 2025-02-09 18:33:04 -0500 (Sun, 09 Feb 2025) EllapsedTime: 30.4 seconds RetCode: 0 Status: OK CheckDir: cleaver.Rcheck Warnings: 0