Package: cleaver Version: 1.45.0 Command: /Library/Frameworks/R.framework/Resources/bin/R CMD build --keep-empty-dirs --no-resave-data cleaver StartedAt: 2025-02-09 16:17:27 -0500 (Sun, 09 Feb 2025) EndedAt: 2025-02-09 16:17:59 -0500 (Sun, 09 Feb 2025) EllapsedTime: 32.0 seconds RetCode: 0 Status: OK PackageFile: cleaver_1.45.0.tar.gz PackageFileSize: 344.6 KiB