Package: cleaver Version: 1.45.0 Command: /home/biocbuild/bbs-3.21-bioc/R/bin/R CMD build --keep-empty-dirs --no-resave-data cleaver StartedAt: 2025-02-09 16:40:17 -0500 (Sun, 09 Feb 2025) EndedAt: 2025-02-09 16:40:35 -0500 (Sun, 09 Feb 2025) EllapsedTime: 18.0 seconds RetCode: 0 Status: OK PackageFile: cleaver_1.45.0.tar.gz PackageFileSize: 345 KiB