Package: cleaver Version: 1.45.0 Command: /home/biocbuild/bbs-3.21-bioc/R/bin/R CMD INSTALL cleaver StartedAt: 2025-02-09 15:23:20 -0500 (Sun, 09 Feb 2025) EndedAt: 2025-02-09 15:23:29 -0500 (Sun, 09 Feb 2025) EllapsedTime: 9.2 seconds RetCode: 0 Status: OK