Package: cleaver Version: 1.45.0 Command: chmod a+r cleaver -R && E:\biocbuild\bbs-3.21-bioc\R\bin\R.exe CMD build --keep-empty-dirs --no-resave-data cleaver StartedAt: 2025-02-09 17:53:36 -0500 (Sun, 09 Feb 2025) EndedAt: 2025-02-09 17:54:04 -0500 (Sun, 09 Feb 2025) EllapsedTime: 27.6 seconds RetCode: 0 Status: OK PackageFile: cleaver_1.45.0.tar.gz PackageFileSize: 320.6 KiB