Package: cliProfiler Version: 1.13.0 Command: /Library/Frameworks/R.framework/Resources/bin/R CMD INSTALL cliProfiler StartedAt: 2025-02-12 15:11:04 -0500 (Wed, 12 Feb 2025) EndedAt: 2025-02-12 15:11:19 -0500 (Wed, 12 Feb 2025) EllapsedTime: 14.5 seconds RetCode: 0 Status: OK