Package: cliProfiler Version: 1.13.0 Command: /home/biocbuild/R/R/bin/R CMD build --keep-empty-dirs --no-resave-data cliProfiler StartedAt: 2025-01-28 21:55:24 -0000 (Tue, 28 Jan 2025) EndedAt: 2025-01-28 21:57:12 -0000 (Tue, 28 Jan 2025) EllapsedTime: 108.0 seconds RetCode: 0 Status: OK PackageFile: cliProfiler_1.13.0.tar.gz PackageFileSize: 840.5 KiB