Package: cliProfiler Version: 1.13.0 Command: /Library/Frameworks/R.framework/Resources/bin/R CMD build --keep-empty-dirs --no-resave-data cliProfiler StartedAt: 2025-02-12 16:15:45 -0500 (Wed, 12 Feb 2025) EndedAt: 2025-02-12 16:17:00 -0500 (Wed, 12 Feb 2025) EllapsedTime: 75.5 seconds RetCode: 0 Status: OK PackageFile: cliProfiler_1.13.0.tar.gz PackageFileSize: 1.282 MiB