Package: cliProfiler Version: 1.13.0 Command: /home/biocbuild/bbs-3.21-bioc/R/bin/R CMD INSTALL cliProfiler StartedAt: 2025-02-09 15:29:18 -0500 (Sun, 09 Feb 2025) EndedAt: 2025-02-09 15:29:53 -0500 (Sun, 09 Feb 2025) EllapsedTime: 34.3 seconds RetCode: 0 Status: OK