Package: cliProfiler Version: 1.13.0 Command: chmod a+r cliProfiler -R && E:\biocbuild\bbs-3.21-bioc\R\bin\R.exe CMD build --keep-empty-dirs --no-resave-data cliProfiler StartedAt: 2025-02-09 17:54:05 -0500 (Sun, 09 Feb 2025) EndedAt: 2025-02-09 17:55:35 -0500 (Sun, 09 Feb 2025) EllapsedTime: 89.9 seconds RetCode: 0 Status: OK PackageFile: cliProfiler_1.13.0.tar.gz PackageFileSize: 595.5 KiB