Package: clippda Version: 1.57.0 Command: /Library/Frameworks/R.framework/Resources/bin/R CMD INSTALL clippda StartedAt: 2025-02-09 15:15:05 -0500 (Sun, 09 Feb 2025) EndedAt: 2025-02-09 15:15:08 -0500 (Sun, 09 Feb 2025) EllapsedTime: 2.6 seconds RetCode: 0 Status: OK