Package: clippda Version: 1.57.0 Command: /home/biocbuild/bbs-3.21-bioc/R/bin/R CMD build --keep-empty-dirs --no-resave-data clippda StartedAt: 2025-02-09 16:40:37 -0500 (Sun, 09 Feb 2025) EndedAt: 2025-02-09 16:41:58 -0500 (Sun, 09 Feb 2025) EllapsedTime: 81.1 seconds RetCode: 0 Status: OK PackageFile: clippda_1.57.0.tar.gz PackageFileSize: 1.494 MiB