Package: clippda Version: 1.57.0 Command: /home/biocbuild/bbs-3.21-bioc/R/bin/R CMD check --install=check:clippda.install-out.txt --library=/home/biocbuild/bbs-3.21-bioc/R/site-library --timings clippda_1.57.0.tar.gz StartedAt: 2025-02-09 20:58:09 -0500 (Sun, 09 Feb 2025) EndedAt: 2025-02-09 21:02:43 -0500 (Sun, 09 Feb 2025) EllapsedTime: 273.4 seconds RetCode: 0 Status: OK CheckDir: clippda.Rcheck Warnings: 0