Package: clippda Version: 1.57.0 Command: /home/biocbuild/bbs-3.21-bioc/R/bin/R CMD INSTALL clippda StartedAt: 2025-02-09 15:12:33 -0500 (Sun, 09 Feb 2025) EndedAt: 2025-02-09 15:12:40 -0500 (Sun, 09 Feb 2025) EllapsedTime: 7.6 seconds RetCode: 0 Status: OK