Package: clippda Version: 1.57.0 Command: rm -rf clippda.buildbin-libdir && mkdir clippda.buildbin-libdir && E:\biocbuild\bbs-3.21-bioc\R\bin\R.exe CMD INSTALL --build --library=clippda.buildbin-libdir clippda_1.57.0.tar.gz StartedAt: 2025-02-10 07:28:08 -0500 (Mon, 10 Feb 2025) EndedAt: 2025-02-10 07:28:30 -0500 (Mon, 10 Feb 2025) EllapsedTime: 22.5 seconds RetCode: 0 Status: OK PackageFile: clippda_1.57.0.zip PackageFileSize: 1.597 MiB