Package: clippda Version: 1.57.0 Command: chmod a+r clippda -R && E:\biocbuild\bbs-3.21-bioc\R\bin\R.exe CMD build --keep-empty-dirs --no-resave-data clippda StartedAt: 2025-02-09 17:53:46 -0500 (Sun, 09 Feb 2025) EndedAt: 2025-02-09 17:55:26 -0500 (Sun, 09 Feb 2025) EllapsedTime: 100.7 seconds RetCode: 0 Status: OK PackageFile: clippda_1.57.0.tar.gz PackageFileSize: 1.342 MiB