Package: clippda Version: 1.57.0 Command: E:\biocbuild\bbs-3.21-bioc\R\bin\R.exe CMD INSTALL clippda StartedAt: 2025-02-09 15:35:46 -0500 (Sun, 09 Feb 2025) EndedAt: 2025-02-09 15:36:17 -0500 (Sun, 09 Feb 2025) EllapsedTime: 31.4 seconds RetCode: 0 Status: OK