Package: clst Version: 1.55.0 Command: /Library/Frameworks/R.framework/Resources/bin/R CMD INSTALL clst StartedAt: 2025-02-04 15:03:26 -0500 (Tue, 04 Feb 2025) EndedAt: 2025-02-04 15:03:33 -0500 (Tue, 04 Feb 2025) EllapsedTime: 7.1 seconds RetCode: 0 Status: OK