Package: clst Version: 1.55.0 Command: /home/biocbuild/R/R/bin/R CMD build --keep-empty-dirs --no-resave-data clst StartedAt: 2025-01-28 21:56:12 -0000 (Tue, 28 Jan 2025) EndedAt: 2025-01-28 21:56:32 -0000 (Tue, 28 Jan 2025) EllapsedTime: 20.0 seconds RetCode: 0 Status: OK PackageFile: clst_1.55.0.tar.gz PackageFileSize: 1.004 MiB