Package: clst Version: 1.55.0 Command: /home/biocbuild/R/R/bin/R CMD INSTALL clst StartedAt: 2025-01-29 19:35:22 -0000 (Wed, 29 Jan 2025) EndedAt: 2025-01-29 19:35:47 -0000 (Wed, 29 Jan 2025) EllapsedTime: 24.7 seconds RetCode: 0 Status: OK