Package: clst Version: 1.55.0 Command: /Library/Frameworks/R.framework/Resources/bin/R CMD build --keep-empty-dirs --no-resave-data clst StartedAt: 2025-02-04 16:15:20 -0500 (Tue, 04 Feb 2025) EndedAt: 2025-02-04 16:15:43 -0500 (Tue, 04 Feb 2025) EllapsedTime: 22.9 seconds RetCode: 0 Status: OK PackageFile: clst_1.55.0.tar.gz PackageFileSize: 1.018 MiB