Package: clst Version: 1.55.0 Command: /Library/Frameworks/R.framework/Resources/bin/R CMD check --install=check:clst.install-out.txt --library=/Library/Frameworks/R.framework/Resources/library --no-vignettes --timings clst_1.55.0.tar.gz StartedAt: 2025-02-04 19:36:11 -0500 (Tue, 04 Feb 2025) EndedAt: 2025-02-04 19:36:51 -0500 (Tue, 04 Feb 2025) EllapsedTime: 40.2 seconds RetCode: 0 Status: WARNINGS CheckDir: clst.Rcheck Warnings: 1