Package: clst Version: 1.55.0 Command: /Library/Frameworks/R.framework/Resources/bin/R CMD INSTALL clst StartedAt: 2025-02-04 15:07:46 -0500 (Tue, 04 Feb 2025) EndedAt: 2025-02-04 15:08:15 -0500 (Tue, 04 Feb 2025) EllapsedTime: 29.3 seconds RetCode: 0 Status: OK