Package: clst Version: 1.55.0 Command: /home/biocbuild/bbs-3.21-bioc/R/bin/R CMD check --install=check:clst.install-out.txt --library=/home/biocbuild/bbs-3.21-bioc/R/site-library --timings clst_1.55.0.tar.gz StartedAt: 2025-02-09 20:58:46 -0500 (Sun, 09 Feb 2025) EndedAt: 2025-02-09 20:59:26 -0500 (Sun, 09 Feb 2025) EllapsedTime: 40.0 seconds RetCode: 0 Status: WARNINGS CheckDir: clst.Rcheck Warnings: 1