Package: clst Version: 1.55.0 Command: chmod a+r clst -R && E:\biocbuild\bbs-3.21-bioc\R\bin\R.exe CMD build --keep-empty-dirs --no-resave-data clst StartedAt: 2025-02-09 17:54:30 -0500 (Sun, 09 Feb 2025) EndedAt: 2025-02-09 17:54:57 -0500 (Sun, 09 Feb 2025) EllapsedTime: 26.8 seconds RetCode: 0 Status: OK PackageFile: clst_1.55.0.tar.gz PackageFileSize: 930.5 KiB