Package: clst Version: 1.55.0 Command: E:\biocbuild\bbs-3.21-bioc\R\bin\R.exe CMD check --no-multiarch --install=check:clst.install-out.txt --library=E:\biocbuild\bbs-3.21-bioc\R\library --no-vignettes --timings clst_1.55.0.tar.gz StartedAt: 2025-02-09 23:42:27 -0500 (Sun, 09 Feb 2025) EndedAt: 2025-02-09 23:43:08 -0500 (Sun, 09 Feb 2025) EllapsedTime: 41.0 seconds RetCode: 0 Status: WARNINGS CheckDir: clst.Rcheck Warnings: 1