Package: clstutils Version: 1.55.0 Command: /Library/Frameworks/R.framework/Resources/bin/R CMD check --install=check:clstutils.install-out.txt --library=/Library/Frameworks/R.framework/Resources/library --no-vignettes --timings clstutils_1.55.0.tar.gz StartedAt: 2025-02-09 18:33:48 -0500 (Sun, 09 Feb 2025) EndedAt: 2025-02-09 18:34:11 -0500 (Sun, 09 Feb 2025) EllapsedTime: 23.3 seconds RetCode: 0 Status: WARNINGS CheckDir: clstutils.Rcheck Warnings: 1