Package: clstutils Version: 1.55.0 Command: /Library/Frameworks/R.framework/Resources/bin/R CMD INSTALL clstutils StartedAt: 2025-02-09 15:12:15 -0500 (Sun, 09 Feb 2025) EndedAt: 2025-02-09 15:12:17 -0500 (Sun, 09 Feb 2025) EllapsedTime: 2.1 seconds RetCode: 0 Status: OK