Package: clstutils Version: 1.55.0 Command: /home/biocbuild/R/R/bin/R CMD build --keep-empty-dirs --no-resave-data clstutils StartedAt: 2025-01-28 21:56:22 -0000 (Tue, 28 Jan 2025) EndedAt: 2025-01-28 21:56:41 -0000 (Tue, 28 Jan 2025) EllapsedTime: 19.0 seconds RetCode: 0 Status: OK PackageFile: clstutils_1.55.0.tar.gz PackageFileSize: 2.676 MiB