Package: clstutils Version: 1.55.0 Command: rm -rf clstutils.buildbin-libdir && mkdir clstutils.buildbin-libdir && /Users/biocbuild/BBS/utils/build-universal.sh clstutils_1.55.0.tar.gz /Library/Frameworks/R.framework/Resources/bin/R clstutils.buildbin-libdir StartedAt: 2025-02-04 00:27:51 -0500 (Tue, 04 Feb 2025) EndedAt: 2025-02-04 00:27:59 -0500 (Tue, 04 Feb 2025) EllapsedTime: 8.2 seconds RetCode: 0 Status: OK PackageFile: clstutils_1.55.0.tgz PackageFileSize: 2.727 MiB