Package: clstutils Version: 1.55.0 Command: /Library/Frameworks/R.framework/Resources/bin/R CMD build --keep-empty-dirs --no-resave-data clstutils StartedAt: 2025-02-09 16:18:24 -0500 (Sun, 09 Feb 2025) EndedAt: 2025-02-09 16:18:53 -0500 (Sun, 09 Feb 2025) EllapsedTime: 28.6 seconds RetCode: 0 Status: OK PackageFile: clstutils_1.55.0.tar.gz PackageFileSize: 2.694 MiB