Package: clstutils Version: 1.55.0 Command: /Library/Frameworks/R.framework/Resources/bin/R CMD check --install=check:clstutils.install-out.txt --library=/Library/Frameworks/R.framework/Resources/library --no-vignettes --timings clstutils_1.55.0.tar.gz StartedAt: 2025-02-03 19:38:41 -0500 (Mon, 03 Feb 2025) EndedAt: 2025-02-03 19:39:48 -0500 (Mon, 03 Feb 2025) EllapsedTime: 67.5 seconds RetCode: 0 Status: WARNINGS CheckDir: clstutils.Rcheck Warnings: 1