Package: clstutils Version: 1.55.0 Command: /Library/Frameworks/R.framework/Resources/bin/R CMD INSTALL clstutils StartedAt: 2025-02-03 15:23:00 -0500 (Mon, 03 Feb 2025) EndedAt: 2025-02-03 15:23:06 -0500 (Mon, 03 Feb 2025) EllapsedTime: 6.4 seconds RetCode: 0 Status: OK