Package: clstutils Version: 1.55.0 Command: /home/biocbuild/bbs-3.21-bioc/R/bin/R CMD build --keep-empty-dirs --no-resave-data clstutils StartedAt: 2025-02-03 16:49:49 -0500 (Mon, 03 Feb 2025) EndedAt: 2025-02-03 16:50:05 -0500 (Mon, 03 Feb 2025) EllapsedTime: 16.0 seconds RetCode: 0 Status: OK PackageFile: clstutils_1.55.0.tar.gz PackageFileSize: 2.694 MiB