Package: clstutils Version: 1.55.0 Command: /home/biocbuild/bbs-3.21-bioc/R/bin/R CMD check --install=check:clstutils.install-out.txt --library=/home/biocbuild/bbs-3.21-bioc/R/site-library --timings clstutils_1.55.0.tar.gz StartedAt: 2025-02-09 20:58:49 -0500 (Sun, 09 Feb 2025) EndedAt: 2025-02-09 20:59:51 -0500 (Sun, 09 Feb 2025) EllapsedTime: 62.0 seconds RetCode: 0 Status: WARNINGS CheckDir: clstutils.Rcheck Warnings: 1