Package: clstutils Version: 1.55.0 Command: /home/biocbuild/bbs-3.21-bioc/R/bin/R CMD INSTALL clstutils StartedAt: 2025-02-03 15:16:13 -0500 (Mon, 03 Feb 2025) EndedAt: 2025-02-03 15:16:45 -0500 (Mon, 03 Feb 2025) EllapsedTime: 31.9 seconds RetCode: 0 Status: OK