Package: clstutils Version: 1.55.0 Command: rm -rf clstutils.buildbin-libdir && mkdir clstutils.buildbin-libdir && E:\biocbuild\bbs-3.21-bioc\R\bin\R.exe CMD INSTALL --build --library=clstutils.buildbin-libdir clstutils_1.55.0.tar.gz StartedAt: 2025-02-10 07:28:22 -0500 (Mon, 10 Feb 2025) EndedAt: 2025-02-10 07:28:31 -0500 (Mon, 10 Feb 2025) EllapsedTime: 9.3 seconds RetCode: 0 Status: OK PackageFile: clstutils_1.55.0.zip PackageFileSize: 2.486 MiB