Package: clstutils Version: 1.55.0 Command: chmod a+r clstutils -R && E:\biocbuild\bbs-3.21-bioc\R\bin\R.exe CMD build --keep-empty-dirs --no-resave-data clstutils StartedAt: 2025-02-09 17:54:31 -0500 (Sun, 09 Feb 2025) EndedAt: 2025-02-09 17:55:17 -0500 (Sun, 09 Feb 2025) EllapsedTime: 46.0 seconds RetCode: 0 Status: OK PackageFile: clstutils_1.55.0.tar.gz PackageFileSize: 2.454 MiB