Package: clstutils Version: 1.55.0 Command: E:\biocbuild\bbs-3.21-bioc\R\bin\R.exe CMD check --no-multiarch --install=check:clstutils.install-out.txt --library=E:\biocbuild\bbs-3.21-bioc\R\library --no-vignettes --timings clstutils_1.55.0.tar.gz StartedAt: 2025-02-09 23:43:10 -0500 (Sun, 09 Feb 2025) EndedAt: 2025-02-09 23:44:19 -0500 (Sun, 09 Feb 2025) EllapsedTime: 69.6 seconds RetCode: 0 Status: WARNINGS CheckDir: clstutils.Rcheck Warnings: 1