Package: clstutils Version: 1.55.0 Command: E:\biocbuild\bbs-3.21-bioc\R\bin\R.exe CMD INSTALL clstutils StartedAt: 2025-02-09 15:34:01 -0500 (Sun, 09 Feb 2025) EndedAt: 2025-02-09 15:34:15 -0500 (Sun, 09 Feb 2025) EllapsedTime: 14.3 seconds RetCode: 0 Status: OK