Package: clusterExperiment Version: 2.27.0 Command: rm -rf clusterExperiment.buildbin-libdir && mkdir clusterExperiment.buildbin-libdir && /Users/biocbuild/BBS/utils/build-universal.sh clusterExperiment_2.27.0.tar.gz /Library/Frameworks/R.framework/Resources/bin/R clusterExperiment.buildbin-libdir StartedAt: 2025-02-12 22:14:53 -0500 (Wed, 12 Feb 2025) EndedAt: 2025-02-12 22:15:19 -0500 (Wed, 12 Feb 2025) EllapsedTime: 25.6 seconds RetCode: 0 Status: OK PackageFile: clusterExperiment_2.27.0.tgz PackageFileSize: 13.07 MiB