Package: clusterExperiment Version: 2.27.0 Command: /Library/Frameworks/R.framework/Resources/bin/R CMD check --install=check:clusterExperiment.install-out.txt --library=/Library/Frameworks/R.framework/Resources/library --no-vignettes --timings clusterExperiment_2.27.0.tar.gz StartedAt: 2025-02-09 18:34:04 -0500 (Sun, 09 Feb 2025) EndedAt: 2025-02-09 18:38:34 -0500 (Sun, 09 Feb 2025) EllapsedTime: 269.4 seconds RetCode: 0 Status: WARNINGS CheckDir: clusterExperiment.Rcheck Warnings: 2