Package: clusterExperiment Version: 2.27.0 Command: /Library/Frameworks/R.framework/Resources/bin/R CMD INSTALL clusterExperiment StartedAt: 2025-02-09 15:24:49 -0500 (Sun, 09 Feb 2025) EndedAt: 2025-02-09 15:25:18 -0500 (Sun, 09 Feb 2025) EllapsedTime: 28.3 seconds RetCode: 0 Status: OK