Package: clusterExperiment Version: 2.27.0 Command: /home/biocbuild/R/R/bin/R CMD check --install=check:clusterExperiment.install-out.txt --library=/home/biocbuild/R/R/site-library --no-vignettes --timings clusterExperiment_2.27.0.tar.gz StartedAt: 2025-01-28 09:16:09 -0000 (Tue, 28 Jan 2025) EndedAt: 2025-01-28 09:36:26 -0000 (Tue, 28 Jan 2025) EllapsedTime: 1217.0 seconds RetCode: 0 Status: WARNINGS CheckDir: clusterExperiment.Rcheck Warnings: 8