Package: clusterExperiment Version: 2.27.0 Command: /home/biocbuild/R/R/bin/R CMD INSTALL clusterExperiment StartedAt: 2025-01-29 20:27:42 -0000 (Wed, 29 Jan 2025) EndedAt: 2025-01-29 20:29:33 -0000 (Wed, 29 Jan 2025) EllapsedTime: 110.7 seconds RetCode: 0 Status: OK