Package: clusterExperiment Version: 2.27.0 Command: /Library/Frameworks/R.framework/Resources/bin/R CMD build --keep-empty-dirs --no-resave-data clusterExperiment StartedAt: 2025-02-09 16:18:37 -0500 (Sun, 09 Feb 2025) EndedAt: 2025-02-09 16:24:35 -0500 (Sun, 09 Feb 2025) EllapsedTime: 357.8 seconds RetCode: 0 Status: OK PackageFile: clusterExperiment_2.27.0.tar.gz PackageFileSize: 12.07 MiB