Package: clusterExperiment Version: 2.27.0 Command: /home/biocbuild/bbs-3.21-bioc/R/bin/R CMD build --keep-empty-dirs --no-resave-data clusterExperiment StartedAt: 2025-02-03 16:50:03 -0500 (Mon, 03 Feb 2025) EndedAt: 2025-02-03 16:55:16 -0500 (Mon, 03 Feb 2025) EllapsedTime: 313.3 seconds RetCode: 0 Status: OK PackageFile: clusterExperiment_2.27.0.tar.gz PackageFileSize: 12.02 MiB