Package: clusterExperiment Version: 2.27.0 Command: /home/biocbuild/bbs-3.21-bioc/R/bin/R CMD INSTALL clusterExperiment StartedAt: 2025-02-03 16:01:06 -0500 (Mon, 03 Feb 2025) EndedAt: 2025-02-03 16:02:20 -0500 (Mon, 03 Feb 2025) EllapsedTime: 74.2 seconds RetCode: 0 Status: OK